BEGIN:VCALENDAR
PRODID:-//github.com/rianjs/ical.net//NONSGML ical.net 4.0//EN
VERSION:2.0
BEGIN:VEVENT
DESCRIPTION:Kristi Himmelfartsdag
DTEND:20270506T000000
DTSTAMP:20260420T143154Z
DTSTART:20270506T000000
SEQUENCE:0
SUMMARY:Kristi Himmelfartsdag
UID:e8d0064b-5f98-4f36-b6da-6824ec4b886b
END:VEVENT
END:VCALENDAR
